BEGIN:VCALENDAR
VERSION:2.0
PRODID:-//VisitCiumani - ECPv5.11.0//NONSGML v1.0//EN
CALSCALE:GREGORIAN
METHOD:PUBLISH
X-WR-CALNAME:VisitCiumani
X-ORIGINAL-URL:https://visitciumani.ro
X-WR-CALDESC:Events for VisitCiumani
BEGIN:VTIMEZONE
TZID:UTC
BEGIN:STANDARD
TZOFFSETFROM:+0000
TZOFFSETTO:+0000
TZNAME:UTC
DTSTART:20250101T000000
END:STANDARD
END:VTIMEZONE
BEGIN:VEVENT
DTSTART;TZID=UTC:20250627T090000
DTEND;TZID=UTC:20250630T000000
DTSTAMP:20260422T112345
CREATED:20250620T060242Z
LAST-MODIFIED:20250620T060242Z
UID:11143-1751014800-1751241600@visitciumani.ro
SUMMARY:XXVI. Csomafalvi Napok
DESCRIPTION:Program hamarosan.
URL:https://visitciumani.ro/hu/events/xxvi-csomafalvi-napok-3/
END:VEVENT
END:VCALENDAR