BEGIN:VCALENDAR
VERSION:2.0
PRODID:-//VisitCiumani - ECPv5.11.0//NONSGML v1.0//EN
CALSCALE:GREGORIAN
METHOD:PUBLISH
X-WR-CALNAME:VisitCiumani
X-ORIGINAL-URL:https://visitciumani.ro
X-WR-CALDESC:Events for VisitCiumani
BEGIN:VTIMEZONE
TZID:UTC
BEGIN:STANDARD
TZOFFSETFROM:+0000
TZOFFSETTO:+0000
TZNAME:UTC
DTSTART:20250101T000000
END:STANDARD
END:VTIMEZONE
BEGIN:VEVENT
DTSTART;TZID=UTC:20250627T090000
DTEND;TZID=UTC:20250630T170000
DTSTAMP:20260422T150010
CREATED:20250620T055706Z
LAST-MODIFIED:20250620T064039Z
UID:11138-1751014800-1751302800@visitciumani.ro
SUMMARY:Municipality Days
DESCRIPTION:Program hamarosan
URL:https://visitciumani.ro/en/events/xxvi-csomafalvi-napok-2/
END:VEVENT
END:VCALENDAR